{"text_format":"1","workbook":"xlsx","n_sheets":5,"sheets":["入力見本","請求書（入力用）","請求書（提出用）","請求書（提出用現場控）","請求書（請求元控）"],"not_rendered":{"charts":0,"images":1,"macros":1,"external_links":0,"defined_names":5,"comments":0,"pivot_tables":0},"unopened":[],"bounds":{"document_bytes":16777216,"sheet_cells":100000,"rows_first":2000,"rows_last":500,"rows_between":2000,"halvings":0,"cell_chars":16384,"cell_head_chars":4096},"cells_cut":0,"cells_raw":0,"read":"whole","date_system":"1900"}

{"sheet":"入力見本","index":0,"n_rows":45,"n_cols":14,"rows_kept":45,"cut":false,"hidden":false,"merged":[[0,12,0,14],[1,11,1,14],[2,0,3,14],[7,0,8,0],[7,1,8,2],[7,3,8,4],[7,5,8,12],[12,8,12,9],[12,10,12,14],[15,8,15,9],[18,7,18,9],[18,10,18,14],[13,8,14,9],[13,10,14,12],[13,13,14,13],[15,10,15,12],[19,0,20,1],[19,2,20,3],[19,4,20,5],[19,7,19,9],[19,12,19,14],[20,7,20,9],[20,10,20,14],[21,0,22,1],[21,2,22,3],[21,4,22,5],[21,7,22,9],[21,10,22,14],[25,12,25,14],[26,0,27,1],[26,2,27,3],[26,4,27,5],[26,6,27,9],[26,10,27,11],[26,12,27,14],[25,0,25,1],[25,2,25,3],[25,4,25,5],[25,6,25,9],[25,10,25,11],[29,0,29,2],[29,5,29,7],[29,8,29,10],[29,11,29,14],[30,0,30,2],[30,5,30,7],[30,8,30,10],[30,11,30,14],[31,0,31,2],[31,5,31,7],[31,8,31,10],[31,11,31,14],[32,0,32,2],[32,5,32,7],[32,8,32,10],[32,11,32,14],[33,0,33,2],[33,5,33,7],[33,8,33,10],[33,11,33,14],[34,0,34,2],[34,5,34,7],[34,8,34,10],[34,11,34,14],[35,0,35,2],[35,5,35,7],[35,8,35,10],[35,11,35,14],[36,0,36,2],[36,5,36,7],[36,8,36,10],[36,11,36,14],[37,0,37,2],[37,5,37,7],[37,8,37,10],[37,11,37,14],[38,0,38,7],[38,8,38,10],[38,11,38,14]]}
[null,null,null,null,null,null,null,null,null,null,null,null,"入力用（見本）"]
[null,null,null,null,null,null,null,null,null,null,null,"令和元年6月30日"]
[" 請　　　求　　　書 "]
[]
[]
["株式会社　有我工業所　御中"]
[]
["工事番号",18000121,null,"工事名",null,"●▲■工事"]
[]
[]
[]
[null,null,null,null,null,null,null,null,"（請求者）"]
[null,null,null,null,null,null,null,null,"住　　所",null,"北海道空知郡上富良野町"]
[null,null,null,null,null,null,null,null,"会社名",null,"株式会社　●●●\n代表取締役　△△　△△",null,null,"㊞"]
[]
[null,null,null,null,null,null,null,null,"登録番号",null,"T1234567891234"]
[]
[]
[null,null,null,null,null,null,null,"金融機関・支店名",null,null,"北洋銀行　富良野支店"]
["今回請求額（税抜）①\n⑥-⑤",null,"消　費　税②",null,"請求金額合計\n①+②",null,null,"預 　金 　種 　別",null,null,"普通","口座番号","●●●●"]
[null,null,null,null,null,null,null,"フ   リ   ガ   ナ",null,null,"ｶﾌﾞｼｷｶﾞｲｼｬ "]
[{"$f":"IF(AND(G27=\"\",E27=\"\"),0,G27-E27)","v":12000000},null,{"$f":"IF(OR(A22=\"\",A22=0),0,A22*0.1)","v":1200000},null,{"$f":"IF(AND(A22=\"\",C22=\"\"),0,A22+C22)","v":13200000},null,null,"口   座   名   義",null,null,"株式会社　●●●"]
[]
[]
[]
["契約額（税抜き）③",null,"前月迄出来高④",null,"立替・相殺等⑤",null,"今月分出来高⑥",null,null,null,"出来高合計④+⑥",null,"契約残額③-④-⑥"]
[20000000,null,{"$f":"IF(I39=\"\",0,I39)","v":5000000},null,null,null,{"$f":"IF(AND(L31=\"\",L32=\"\",L33=\"\",L34=\"\",L35=\"\",L36=\"\",L37=\"\",L38=\"\"),\"\",SUM(L31:O38))","v":12000000},null,null,null,{"$f":"IF(AND(C27=\"\",G27=\"\"),\"\",C27+G27)","v":17000000},null,{"$f":"IF(OR(A27=\"\",A27=0),\"契約額を入力してください\",A27-K27)","v":3000000}]
[]
[]
["工　　種　　名",null,null,"数量","単位","契約金額",null,null,"先月迄出来高",null,null,"今月出来高"]
["建築工事",null,null,1,"式",10000000,null,null,3000000,null,null,7000000]
["配管工事",null,null,1,"式",5000000,null,null,null,null,null,2000000]
["土木工事",null,null,1,"式",5000000,null,null,2000000,null,null,3000000]
[]
[]
[]
[]
[]
["合　　　　　計",null,null,null,null,null,null,null,{"$f":"IF(AND(I31=\"\",I32=\"\",I33=\"\",I34=\"\",I35=\"\",I36=\"\",I37=\"\",I38=\"\"),\"\",SUM(I31:K38))","v":5000000},null,null,{"$f":"IF(AND(L31=\"\",L32=\"\",L33=\"\",L34=\"\",L35=\"\",L36=\"\",L37=\"\",L38=\"\"),\"\",SUM(L31:O38))","v":12000000}]
["　色がついてるセルに入力してください。入力が終わったら請求書印刷ボタンをクリックして印刷して提出してください。"]
["　請求書は原則25日締翌月5日までに有我工業所　本社（上富良野町）又は有我工業所札幌本店（札幌）に到着するようお願いします。"]
["　工事番号、工事名は必ず記入お願いします。工事番号及び工事名が不明な場合は現場担当者に確認してください。"]
["  現場が複数ある場合は、現場毎に分けて提出してください。"]
["　請求書は【提出用】と【提出用現場控】2部提出お願いします。"]
["　請求は一式で入力していただいて構いませんが、請求書の他に自社様式の請求書又は明細書等の添付をお願いします。"]

{"sheet":"請求書（入力用）","index":1,"n_rows":46,"n_cols":14,"rows_kept":46,"cut":false,"hidden":false,"merged":[[13,8,14,9],[13,10,14,12],[15,10,15,12],[13,13,14,13],[0,12,0,14],[1,11,1,14],[2,0,3,14],[7,0,8,0],[7,1,8,2],[7,3,8,4],[7,5,8,12],[12,8,12,9],[15,8,15,9],[12,10,12,14],[18,7,18,9],[18,10,18,14],[19,0,20,1],[19,2,20,3],[19,4,20,5],[19,7,19,9],[19,12,19,14],[20,7,20,9],[20,10,20,14],[21,0,22,1],[21,2,22,3],[21,4,22,5],[21,7,22,9],[21,10,22,14],[25,12,25,14],[26,0,27,1],[26,2,27,3],[26,4,27,5],[26,6,27,9],[26,10,27,11],[26,12,27,14],[25,0,25,1],[25,2,25,3],[25,4,25,5],[25,6,25,9],[25,10,25,11],[29,0,29,2],[29,5,29,7],[29,8,29,10],[29,11,29,14],[30,0,30,2],[30,5,30,7],[30,8,30,10],[30,11,30,14],[31,0,31,2],[31,5,31,7],[31,8,31,10],[31,11,31,14],[32,0,32,2],[32,5,32,7],[32,8,32,10],[32,11,32,14],[36,5,36,7],[36,8,36,10],[36,11,36,14],[33,0,33,2],[33,5,33,7],[33,8,33,10],[33,11,33,14],[34,0,34,2],[34,5,34,7],[34,8,34,10],[34,11,34,14],[35,0,35,2],[35,5,35,7],[35,8,35,10],[35,11,35,14],[36,0,36,2],[38,0,38,7],[37,0,37,2],[37,5,37,7],[37,8,37,10],[37,11,37,14],[38,8,38,10],[38,11,38,14]]}
[null,null,null,null,null,null,null,null,null,null,null,null,"入力用"]
[]
[" 請　　　求　　　書 "]
[]
[]
["株式会社　有我工業所　御中"]
[]
["工事番号",null,null,"工事名"]
[]
[]
[]
[null,null,null,null,null,null,null,null,"（請求者）"]
[null,null,null,null,null,null,null,null,"住　　所"]
[null,null,null,null,null,null,null,null,"会社名",null,null,null,null,"㊞"]
[]
[null,null,null,null,null,null,null,null,"登録番号"]
[]
[]
[null,null,null,null,null,null,null,"金融機関・支店名"]
["今回請求額（税抜）①\n⑥-⑤",null,"消　費　税②\n①×0.1",null,"請求金額合計\n①+②",null,null,"預 　金 　種 　別",null,null,null,"口座番号"]
[null,null,null,null,null,null,null,"フ   リ   ガ   ナ"]
[{"$f":"IF(AND(G27=\"\",E27=\"\"),\"\",G27+E27)","v":""},null,{"$f":"IF(OR(A22=\"\",A22=0),\"\",A22*0.1)","v":""},null,{"$f":"IF(AND(A22=\"\",C22=\"\"),\"\",A22+C22)","v":""},null,null,"口   座   名   義"]
[]
[]
[]
["契約額（税抜き）③",null,"前月迄出来高④",null,"立替・相殺等⑤",null,"今月分出来高⑥",null,null,null,"出来高合計④+⑥",null,"契約残額③-④-⑥"]
[null,null,{"$f":"IF(I39=\"\",0,I39)","v":0},null,null,null,{"$f":"IF(AND(L31=\"\",L32=\"\",L33=\"\",L34=\"\",L35=\"\",L36=\"\",L37=\"\",L38=\"\"),\"\",SUM(L31:O38))","v":""},null,null,null,{"$f":"IF(AND(C27=\"\",G27=\"\"),\"\",C27+G27)","v":{"$error":"#VALUE!"}},null,{"$f":"IF(OR(A27=\"\",A27=0),\"契約額を入力してください\",A27-K27)","v":"契約額を入力してください"}]
[]
[]
["工　　種　　名",null,null,"数量","単位","契約金額",null,null,"先月迄出来高",null,null,"今月出来高"]
[]
[]
[]
[]
[]
[]
[]
[]
["合　　　　　計",null,null,null,null,null,null,null,{"$f":"IF(AND(I31=\"\",I32=\"\",I33=\"\",I34=\"\",I35=\"\",I36=\"\",I37=\"\",I38=\"\"),\"\",SUM(I31:K38))","v":""},null,null,{"$f":"IF(AND(L31=\"\",L32=\"\",L33=\"\",L34=\"\",L35=\"\",L36=\"\",L37=\"\",L38=\"\"),\"\",SUM(L31:O38))","v":""}]
["　色がついてるセルに入力してください。入力が終わったら請求書印刷ボタンをクリックして印刷して提出してください。"]
["　請求書は原則25日締月末までに、現場事務所又は有我工業所　本社（上富良野町）又は有我工業所　札幌本店"]
["　（札幌市）に到着するようお願いします。"]
["　工事番号、工事名は必ず記入お願いします。工事番号及び工事名が不明な場合は現場担当者に確認してください。"]
["  現場が複数ある場合は、現場毎に分けて提出してください。"]
["　請求書は【提出用】と【提出用現場控】2部提出お願いします。"]
["　請求は一式で入力していただいて構いませんが、請求書の他に自社様式の請求書又は明細書等の添付をお願いします。"]

{"sheet":"請求書（提出用）","index":2,"n_rows":39,"n_cols":14,"rows_kept":39,"cut":false,"hidden":false,"merged":[[13,8,14,9],[13,10,14,12],[15,10,15,12],[13,13,14,13],[0,12,0,14],[1,11,1,14],[2,0,3,14],[7,0,8,0],[7,1,8,2],[7,3,8,4],[7,5,8,12],[12,8,12,9],[15,8,15,9],[12,10,12,14],[18,7,18,9],[18,10,18,14],[19,0,20,1],[19,2,20,3],[19,4,20,5],[19,7,19,9],[19,12,19,14],[20,7,20,9],[20,10,20,14],[21,0,22,1],[21,2,22,3],[21,4,22,5],[21,7,22,9],[21,10,22,14],[25,12,25,14],[26,0,27,1],[26,2,27,3],[26,4,27,5],[26,6,27,9],[26,10,27,11],[26,12,27,14],[25,0,25,1],[25,2,25,3],[25,4,25,5],[25,6,25,9],[25,10,25,11],[29,0,29,2],[29,5,29,7],[29,8,29,10],[29,11,29,14],[30,0,30,2],[30,5,30,7],[30,8,30,10],[30,11,30,14],[31,0,31,2],[31,5,31,7],[31,8,31,10],[31,11,31,14],[32,0,32,2],[32,5,32,7],[32,8,32,10],[32,11,32,14],[36,5,36,7],[36,8,36,10],[36,11,36,14],[33,0,33,2],[33,5,33,7],[33,8,33,10],[33,11,33,14],[34,0,34,2],[34,5,34,7],[34,8,34,10],[34,11,34,14],[35,0,35,2],[35,5,35,7],[35,8,35,10],[35,11,35,14],[36,0,36,2],[38,0,38,7],[37,0,37,2],[37,5,37,7],[37,8,37,10],[37,11,37,14],[38,8,38,10],[38,11,38,14],[41,13,44,13],[41,12,44,12],[41,11,44,11],[41,10,44,10],[41,9,44,9]]}
[null,null,null,null,null,null,null,null,null,null,null,null,"提出用"]
[null,null,null,null,null,null,null,null,null,null,null,{"$f":"IF('請求書（入力用）'!L2:O2=\"\",\"\",'請求書（入力用）'!L2:O2)","v":""}]
[" 請　　　求　　　書 "]
[]
[]
["株式会社　有我工業所　御中"]
[]
["工事番号",{"$f":"IF('請求書（入力用）'!B8:C9=\"\",\"\",'請求書（入力用）'!B8:C9)","v":""},null,"工事名",null,{"$f":"IF('請求書（入力用）'!F8:M9=\"\",\"\",'請求書（入力用）'!F8:M9)","v":""}]
[]
[]
[]
[null,null,null,null,null,null,null,null,"（請求者）"]
[null,null,null,null,null,null,null,null,"住　　所",null,{"$f":"IF('請求書（入力用）'!K13:O13=\"\",\"\",'請求書（入力用）'!K13:O13)","v":""}]
[null,null,null,null,null,null,null,null,"会社名",null,{"$f":"IF('請求書（入力用）'!K14:M16=\"\",\"\",'請求書（入力用）'!K14:M16)","v":""},null,null,"㊞"]
[]
[null,null,null,null,null,null,null,null,"登録番号",null,{"$f":"IF('請求書（入力用）'!K16:M16=\"\",\"\",'請求書（入力用）'!K16:M16)","v":""}]
[]
[]
[null,null,null,null,null,null,null,"金融機関・支店名",null,null,{"$f":"IF('請求書（入力用）'!K19:O19=\"\",\"入力してください\",'請求書（入力用）'!K19:O19)","v":"入力してください"}]
["今回請求額（税抜）①\n⑥-⑤",null,"消　費　税②\n①×0.1",null,"請求金額合計\n①+②",null,null,"預 　金 　種 　別",null,null,{"$f":"IF('請求書（入力用）'!K20=\"\",\"入力してください\",'請求書（入力用）'!K20)","v":"入力してください"},"口座番号",{"$f":"IF('請求書（入力用）'!M20:O20=\"\",\"入力してください\",'請求書（入力用）'!M20:O20)","v":"入力してください"}]
[null,null,null,null,null,null,null,"フ   リ   ガ   ナ",null,null,{"$f":"IF('請求書（入力用）'!K21:O21=\"\",\"入力してください\",'請求書（入力用）'!K21:O21)","v":"入力してください"}]
[{"$f":"IF('請求書（入力用）'!A22:B23=\"\",\"\",'請求書（入力用）'!A22:B23)","v":""},null,{"$f":"IF('請求書（入力用）'!C22:D23=\"\",\"\",'請求書（入力用）'!C22:D23)","v":""},null,{"$f":"IF('請求書（入力用）'!E22:F23=\"\",\"\",'請求書（入力用）'!E22:F23)","v":""},null,null,"口   座   名   義",null,null,{"$f":"IF('請求書（入力用）'!K22:O23=\"\",\"入力してください\",'請求書（入力用）'!K22:O23)","v":"入力してください"}]
[]
[]
[]
["契約額（税抜き）③",null,"前月迄出来高④",null,"立替・相殺等⑤",null,"今月分出来高⑥",null,null,null,"出来高合計④+⑥",null,"契約残額③-④-⑥"]
[{"$f":"IF('請求書（入力用）'!A27:B28=\"\",\"\",'請求書（入力用）'!A27:B28)","v":""},null,{"$f":"IF('請求書（入力用）'!C27:D28=\"\",\"\",'請求書（入力用）'!C27:D28)","v":0},null,{"$f":"IF('請求書（入力用）'!E27:F28=\"\",\"\",'請求書（入力用）'!E27:F28)","v":""},null,{"$f":"IF('請求書（入力用）'!G27:J28=\"\",\"\",'請求書（入力用）'!G27:J28)","v":""},null,null,null,{"$f":"IF('請求書（入力用）'!K27:L28=\"\",\"\",'請求書（入力用）'!K27:L28)","v":{"$error":"#VALUE!"}},null,{"$f":"IF('請求書（入力用）'!M27:O28=\"\",\"\",'請求書（入力用）'!M27:O28)","v":"契約額を入力してください"}]
[]
[]
["工　　種　　名",null,null,"数量","単位","契約金額",null,null,"先月迄出来高",null,null,"今月出来高"]
[{"$f":"IF('請求書（入力用）'!A31:C31=\"\",\"\",'請求書（入力用）'!A31:C31)","v":""},null,null,{"$f":"IF('請求書（入力用）'!D31=\"\",\"\",'請求書（入力用）'!D31)","v":""},{"$f":"IF('請求書（入力用）'!E31=\"\",\"\",'請求書（入力用）'!E31)","v":""},{"$f":"IF('請求書（入力用）'!F31:H31=\"\",\"\",'請求書（入力用）'!F31:H31)","v":""},null,null,{"$f":"IF('請求書（入力用）'!I31:K31=\"\",\"\",'請求書（入力用）'!I31:K31)","v":""},null,null,{"$f":"IF('請求書（入力用）'!L31:O31=\"\",\"\",'請求書（入力用）'!L31:O31)","v":""}]
[{"$f":"IF('請求書（入力用）'!A32:C32=\"\",\"\",'請求書（入力用）'!A32:C32)","v":""},null,null,{"$f":"IF('請求書（入力用）'!D32=\"\",\"\",'請求書（入力用）'!D32)","v":""},{"$f":"IF('請求書（入力用）'!E32=\"\",\"\",'請求書（入力用）'!E32)","v":""},{"$f":"IF('請求書（入力用）'!F32:H32=\"\",\"\",'請求書（入力用）'!F32:H32)","v":""},null,null,{"$f":"IF('請求書（入力用）'!I32:K32=\"\",\"\",'請求書（入力用）'!I32:K32)","v":""},null,null,{"$f":"IF('請求書（入力用）'!L32:O32=\"\",\"\",'請求書（入力用）'!L32:O32)","v":""}]
[{"$f":"IF('請求書（入力用）'!A33:C33=\"\",\"\",'請求書（入力用）'!A33:C33)","v":""},null,null,{"$f":"IF('請求書（入力用）'!D33=\"\",\"\",'請求書（入力用）'!D33)","v":""},{"$f":"IF('請求書（入力用）'!E33=\"\",\"\",'請求書（入力用）'!E33)","v":""},{"$f":"IF('請求書（入力用）'!F33:H33=\"\",\"\",'請求書（入力用）'!F33:H33)","v":""},null,null,{"$f":"IF('請求書（入力用）'!I33:K33=\"\",\"\",'請求書（入力用）'!I33:K33)","v":""},null,null,{"$f":"IF('請求書（入力用）'!L33:O33=\"\",\"\",'請求書（入力用）'!L33:O33)","v":""}]
[{"$f":"IF('請求書（入力用）'!A34:C34=\"\",\"\",'請求書（入力用）'!A34:C34)","v":""},null,null,{"$f":"IF('請求書（入力用）'!D34=\"\",\"\",'請求書（入力用）'!D34)","v":""},{"$f":"IF('請求書（入力用）'!E34=\"\",\"\",'請求書（入力用）'!E34)","v":""},{"$f":"IF('請求書（入力用）'!F34:H34=\"\",\"\",'請求書（入力用）'!F34:H34)","v":""},null,null,{"$f":"IF('請求書（入力用）'!I34:K34=\"\",\"\",'請求書（入力用）'!I34:K34)","v":""},null,null,{"$f":"IF('請求書（入力用）'!L34:O34=\"\",\"\",'請求書（入力用）'!L34:O34)","v":""}]
[{"$f":"IF('請求書（入力用）'!A35:C35=\"\",\"\",'請求書（入力用）'!A35:C35)","v":""},null,null,{"$f":"IF('請求書（入力用）'!D35=\"\",\"\",'請求書（入力用）'!D35)","v":""},{"$f":"IF('請求書（入力用）'!E35=\"\",\"\",'請求書（入力用）'!E35)","v":""},{"$f":"IF('請求書（入力用）'!F35:H35=\"\",\"\",'請求書（入力用）'!F35:H35)","v":""},null,null,{"$f":"IF('請求書（入力用）'!I35:K35=\"\",\"\",'請求書（入力用）'!I35:K35)","v":""},null,null,{"$f":"IF('請求書（入力用）'!L35:O35=\"\",\"\",'請求書（入力用）'!L35:O35)","v":""}]
[{"$f":"IF('請求書（入力用）'!A36:C36=\"\",\"\",'請求書（入力用）'!A36:C36)","v":""},null,null,{"$f":"IF('請求書（入力用）'!D36=\"\",\"\",'請求書（入力用）'!D36)","v":""},{"$f":"IF('請求書（入力用）'!E36=\"\",\"\",'請求書（入力用）'!E36)","v":""},{"$f":"IF('請求書（入力用）'!F36:H36=\"\",\"\",'請求書（入力用）'!F36:H36)","v":""},null,null,{"$f":"IF('請求書（入力用）'!I36:K36=\"\",\"\",'請求書（入力用）'!I36:K36)","v":""},null,null,{"$f":"IF('請求書（入力用）'!L36:O36=\"\",\"\",'請求書（入力用）'!L36:O36)","v":""}]
[{"$f":"IF('請求書（入力用）'!A37:C37=\"\",\"\",'請求書（入力用）'!A37:C37)","v":""},null,null,{"$f":"IF('請求書（入力用）'!D37=\"\",\"\",'請求書（入力用）'!D37)","v":""},{"$f":"IF('請求書（入力用）'!E37=\"\",\"\",'請求書（入力用）'!E37)","v":""},{"$f":"IF('請求書（入力用）'!F37:H37=\"\",\"\",'請求書（入力用）'!F37:H37)","v":""},null,null,{"$f":"IF('請求書（入力用）'!I37:K37=\"\",\"\",'請求書（入力用）'!I37:K37)","v":""},null,null,{"$f":"IF('請求書（入力用）'!L37:O37=\"\",\"\",'請求書（入力用）'!L37:O37)","v":""}]
[{"$f":"IF('請求書（入力用）'!A38:C38=\"\",\"\",'請求書（入力用）'!A38:C38)","v":""},null,null,{"$f":"IF('請求書（入力用）'!D38=\"\",\"\",'請求書（入力用）'!D38)","v":""},{"$f":"IF('請求書（入力用）'!E38=\"\",\"\",'請求書（入力用）'!E38)","v":""},{"$f":"IF('請求書（入力用）'!F38:H38=\"\",\"\",'請求書（入力用）'!F38:H38)","v":""},null,null,{"$f":"IF('請求書（入力用）'!I38:K38=\"\",\"\",'請求書（入力用）'!I38:K38)","v":""},null,null,{"$f":"IF('請求書（入力用）'!L38:O38=\"\",\"\",'請求書（入力用）'!L38:O38)","v":""}]
["合　　　　　計",null,null,null,null,null,null,null,{"$f":"IF('請求書（入力用）'!I39:K39=\"\",\"\",'請求書（入力用）'!I39:K39)","v":""},null,null,{"$f":"IF('請求書（入力用）'!L39:O39=\"\",\"\",'請求書（入力用）'!L39:O39)","v":""}]

{"sheet":"請求書（提出用現場控）","index":3,"n_rows":39,"n_cols":14,"rows_kept":39,"cut":false,"hidden":false,"merged":[[0,12,0,14],[1,11,1,14],[2,0,3,14],[7,0,8,0],[7,1,8,2],[7,3,8,4],[7,5,8,12],[12,8,12,9],[12,10,12,14],[15,8,15,9],[18,7,18,9],[18,10,18,14],[13,8,14,9],[13,10,14,12],[15,10,15,12],[13,13,14,13],[19,0,20,1],[19,2,20,3],[19,4,20,5],[19,7,19,9],[19,12,19,14],[20,7,20,9],[20,10,20,14],[21,0,22,1],[21,2,22,3],[21,4,22,5],[21,7,22,9],[21,10,22,14],[25,12,25,14],[26,0,27,1],[26,2,27,3],[26,4,27,5],[26,6,27,9],[26,10,27,11],[26,12,27,14],[25,0,25,1],[25,2,25,3],[25,4,25,5],[25,6,25,9],[25,10,25,11],[29,0,29,2],[29,5,29,7],[29,8,29,10],[29,11,29,14],[30,0,30,2],[30,5,30,7],[30,8,30,10],[30,11,30,14],[31,0,31,2],[31,5,31,7],[31,8,31,10],[31,11,31,14],[32,0,32,2],[32,5,32,7],[32,8,32,10],[32,11,32,14],[33,0,33,2],[33,5,33,7],[33,8,33,10],[33,11,33,14],[34,0,34,2],[34,5,34,7],[34,8,34,10],[34,11,34,14],[35,0,35,2],[35,5,35,7],[35,8,35,10],[35,11,35,14],[36,0,36,2],[36,5,36,7],[36,8,36,10],[36,11,36,14],[37,0,37,2],[37,5,37,7],[37,8,37,10],[37,11,37,14],[38,0,38,7],[38,8,38,10],[38,11,38,14],[41,12,44,12],[41,11,44,11],[41,10,44,10],[41,9,44,9],[41,13,44,13]]}
[null,null,null,null,null,null,null,null,null,null,null,null,"提出用現場控"]
[null,null,null,null,null,null,null,null,null,null,null,{"$f":"IF('請求書（入力用）'!L2:O2=\"\",\"\",'請求書（入力用）'!L2:O2)","v":""}]
[" 請　　　求　　　書 "]
[]
[]
["株式会社　有我工業所　御中"]
[]
["工事番号",{"$f":"IF('請求書（入力用）'!B8:C9=\"\",\"\",'請求書（入力用）'!B8:C9)","v":""},null,"工事名",null,{"$f":"IF('請求書（入力用）'!F8:M9=\"\",\"\",'請求書（入力用）'!F8:M9)","v":""}]
[]
[]
[]
[null,null,null,null,null,null,null,null,"（請求者）"]
[null,null,null,null,null,null,null,null,"住　　所",null,{"$f":"IF('請求書（入力用）'!K13:O13=\"\",\"\",'請求書（入力用）'!K13:O13)","v":""}]
[null,null,null,null,null,null,null,null,"会社名",null,{"$f":"IF('請求書（入力用）'!K14:M16=\"\",\"\",'請求書（入力用）'!K14:M16)","v":""},null,null,"㊞"]
[]
[null,null,null,null,null,null,null,null,"登録番号",null,{"$f":"IF('請求書（入力用）'!K16:M16=\"\",\"\",'請求書（入力用）'!K16:M16)","v":""}]
[]
[]
[null,null,null,null,null,null,null,"金融機関・支店名",null,null,{"$f":"IF('請求書（入力用）'!K19:O19=\"\",\"入力してください\",'請求書（入力用）'!K19:O19)","v":"入力してください"}]
["今回請求額（税抜）①\n⑥-⑤",null,"消　費　税②\n①×0.1",null,"請求金額合計\n①+②",null,null,"預 　金 　種 　別",null,null,{"$f":"IF('請求書（入力用）'!K20=\"\",\"入力してください\",'請求書（入力用）'!K20)","v":"入力してください"},"口座番号",{"$f":"IF('請求書（入力用）'!M20:O20=\"\",\"入力してください\",'請求書（入力用）'!M20:O20)","v":"入力してください"}]
[null,null,null,null,null,null,null,"フ   リ   ガ   ナ",null,null,{"$f":"IF('請求書（入力用）'!K21:O21=\"\",\"入力してください\",'請求書（入力用）'!K21:O21)","v":"入力してください"}]
[{"$f":"IF('請求書（入力用）'!A22:B23=\"\",\"\",'請求書（入力用）'!A22:B23)","v":""},null,{"$f":"IF('請求書（入力用）'!C22:D23=\"\",\"\",'請求書（入力用）'!C22:D23)","v":""},null,{"$f":"IF('請求書（入力用）'!E22:F23=\"\",\"\",'請求書（入力用）'!E22:F23)","v":""},null,null,"口   座   名   義",null,null,{"$f":"IF('請求書（入力用）'!K22:O23=\"\",\"入力してください\",'請求書（入力用）'!K22:O23)","v":"入力してください"}]
[]
[]
[]
["契約額（税抜き）③",null,"前月迄出来高④",null,"立替・相殺等⑤",null,"今月分出来高⑥",null,null,null,"出来高合計④+⑥",null,"契約残額③-④-⑥"]
[{"$f":"IF('請求書（入力用）'!A27:B28=\"\",\"\",'請求書（入力用）'!A27:B28)","v":""},null,{"$f":"IF('請求書（入力用）'!C27:D28=\"\",\"\",'請求書（入力用）'!C27:D28)","v":0},null,{"$f":"IF('請求書（入力用）'!E27:F28=\"\",\"\",'請求書（入力用）'!E27:F28)","v":""},null,{"$f":"IF('請求書（入力用）'!G27:J28=\"\",\"\",'請求書（入力用）'!G27:J28)","v":""},null,null,null,{"$f":"IF('請求書（入力用）'!K27:L28=\"\",\"\",'請求書（入力用）'!K27:L28)","v":{"$error":"#VALUE!"}},null,{"$f":"IF('請求書（入力用）'!M27:O28=\"\",\"\",'請求書（入力用）'!M27:O28)","v":"契約額を入力してください"}]
[]
[]
["工　　種　　名",null,null,"数量","単位","契約金額",null,null,"先月迄出来高",null,null,"今月出来高"]
[{"$f":"IF('請求書（入力用）'!A31:C31=\"\",\"\",'請求書（入力用）'!A31:C31)","v":""},null,null,{"$f":"IF('請求書（入力用）'!D31=\"\",\"\",'請求書（入力用）'!D31)","v":""},{"$f":"IF('請求書（入力用）'!E31=\"\",\"\",'請求書（入力用）'!E31)","v":""},{"$f":"IF('請求書（入力用）'!F31:H31=\"\",\"\",'請求書（入力用）'!F31:H31)","v":""},null,null,{"$f":"IF('請求書（入力用）'!I31:K31=\"\",\"\",'請求書（入力用）'!I31:K31)","v":""},null,null,{"$f":"IF('請求書（入力用）'!L31:O31=\"\",\"\",'請求書（入力用）'!L31:O31)","v":""}]
[{"$f":"IF('請求書（入力用）'!A32:C32=\"\",\"\",'請求書（入力用）'!A32:C32)","v":""},null,null,{"$f":"IF('請求書（入力用）'!D32=\"\",\"\",'請求書（入力用）'!D32)","v":""},{"$f":"IF('請求書（入力用）'!E32=\"\",\"\",'請求書（入力用）'!E32)","v":""},{"$f":"IF('請求書（入力用）'!F32:H32=\"\",\"\",'請求書（入力用）'!F32:H32)","v":""},null,null,{"$f":"IF('請求書（入力用）'!I32:K32=\"\",\"\",'請求書（入力用）'!I32:K32)","v":""},null,null,{"$f":"IF('請求書（入力用）'!L32:O32=\"\",\"\",'請求書（入力用）'!L32:O32)","v":""}]
[{"$f":"IF('請求書（入力用）'!A33:C33=\"\",\"\",'請求書（入力用）'!A33:C33)","v":""},null,null,{"$f":"IF('請求書（入力用）'!D33=\"\",\"\",'請求書（入力用）'!D33)","v":""},{"$f":"IF('請求書（入力用）'!E33=\"\",\"\",'請求書（入力用）'!E33)","v":""},{"$f":"IF('請求書（入力用）'!F33:H33=\"\",\"\",'請求書（入力用）'!F33:H33)","v":""},null,null,{"$f":"IF('請求書（入力用）'!I33:K33=\"\",\"\",'請求書（入力用）'!I33:K33)","v":""},null,null,{"$f":"IF('請求書（入力用）'!L33:O33=\"\",\"\",'請求書（入力用）'!L33:O33)","v":""}]
[{"$f":"IF('請求書（入力用）'!A34:C34=\"\",\"\",'請求書（入力用）'!A34:C34)","v":""},null,null,{"$f":"IF('請求書（入力用）'!D34=\"\",\"\",'請求書（入力用）'!D34)","v":""},{"$f":"IF('請求書（入力用）'!E34=\"\",\"\",'請求書（入力用）'!E34)","v":""},{"$f":"IF('請求書（入力用）'!F34:H34=\"\",\"\",'請求書（入力用）'!F34:H34)","v":""},null,null,{"$f":"IF('請求書（入力用）'!I34:K34=\"\",\"\",'請求書（入力用）'!I34:K34)","v":""},null,null,{"$f":"IF('請求書（入力用）'!L34:O34=\"\",\"\",'請求書（入力用）'!L34:O34)","v":""}]
[{"$f":"IF('請求書（入力用）'!A35:C35=\"\",\"\",'請求書（入力用）'!A35:C35)","v":""},null,null,{"$f":"IF('請求書（入力用）'!D35=\"\",\"\",'請求書（入力用）'!D35)","v":""},{"$f":"IF('請求書（入力用）'!E35=\"\",\"\",'請求書（入力用）'!E35)","v":""},{"$f":"IF('請求書（入力用）'!F35:H35=\"\",\"\",'請求書（入力用）'!F35:H35)","v":""},null,null,{"$f":"IF('請求書（入力用）'!I35:K35=\"\",\"\",'請求書（入力用）'!I35:K35)","v":""},null,null,{"$f":"IF('請求書（入力用）'!L35:O35=\"\",\"\",'請求書（入力用）'!L35:O35)","v":""}]
[{"$f":"IF('請求書（入力用）'!A36:C36=\"\",\"\",'請求書（入力用）'!A36:C36)","v":""},null,null,{"$f":"IF('請求書（入力用）'!D36=\"\",\"\",'請求書（入力用）'!D36)","v":""},{"$f":"IF('請求書（入力用）'!E36=\"\",\"\",'請求書（入力用）'!E36)","v":""},{"$f":"IF('請求書（入力用）'!F36:H36=\"\",\"\",'請求書（入力用）'!F36:H36)","v":""},null,null,{"$f":"IF('請求書（入力用）'!I36:K36=\"\",\"\",'請求書（入力用）'!I36:K36)","v":""},null,null,{"$f":"IF('請求書（入力用）'!L36:O36=\"\",\"\",'請求書（入力用）'!L36:O36)","v":""}]
[{"$f":"IF('請求書（入力用）'!A37:C37=\"\",\"\",'請求書（入力用）'!A37:C37)","v":""},null,null,{"$f":"IF('請求書（入力用）'!D37=\"\",\"\",'請求書（入力用）'!D37)","v":""},{"$f":"IF('請求書（入力用）'!E37=\"\",\"\",'請求書（入力用）'!E37)","v":""},{"$f":"IF('請求書（入力用）'!F37:H37=\"\",\"\",'請求書（入力用）'!F37:H37)","v":""},null,null,{"$f":"IF('請求書（入力用）'!I37:K37=\"\",\"\",'請求書（入力用）'!I37:K37)","v":""},null,null,{"$f":"IF('請求書（入力用）'!L37:O37=\"\",\"\",'請求書（入力用）'!L37:O37)","v":""}]
[{"$f":"IF('請求書（入力用）'!A38:C38=\"\",\"\",'請求書（入力用）'!A38:C38)","v":""},null,null,{"$f":"IF('請求書（入力用）'!D38=\"\",\"\",'請求書（入力用）'!D38)","v":""},{"$f":"IF('請求書（入力用）'!E38=\"\",\"\",'請求書（入力用）'!E38)","v":""},{"$f":"IF('請求書（入力用）'!F38:H38=\"\",\"\",'請求書（入力用）'!F38:H38)","v":""},null,null,{"$f":"IF('請求書（入力用）'!I38:K38=\"\",\"\",'請求書（入力用）'!I38:K38)","v":""},null,null,{"$f":"IF('請求書（入力用）'!L38:O38=\"\",\"\",'請求書（入力用）'!L38:O38)","v":""}]
["合　　　　　計",null,null,null,null,null,null,null,{"$f":"IF('請求書（入力用）'!I39:K39=\"\",\"\",'請求書（入力用）'!I39:K39)","v":""},null,null,{"$f":"IF('請求書（入力用）'!L39:O39=\"\",\"\",'請求書（入力用）'!L39:O39)","v":""}]

{"sheet":"請求書（請求元控）","index":4,"n_rows":39,"n_cols":14,"rows_kept":39,"cut":false,"hidden":false,"merged":[[15,10,15,12],[13,13,14,13],[13,8,14,9],[7,0,8,0],[7,1,8,2],[12,8,12,9],[13,10,14,12],[15,8,15,9],[12,10,12,14],[0,12,0,14],[1,11,1,14],[2,0,3,14],[7,3,8,4],[7,5,8,12],[20,10,20,14],[19,0,20,1],[19,2,20,3],[19,4,20,5],[18,7,18,9],[19,7,19,9],[19,12,19,14],[18,10,18,14],[20,7,20,9],[25,6,25,9],[25,10,25,11],[25,12,25,14],[26,0,27,1],[21,0,22,1],[21,2,22,3],[21,4,22,5],[25,0,25,1],[25,2,25,3],[25,4,25,5],[21,7,22,9],[21,10,22,14],[26,2,27,3],[26,4,27,5],[26,6,27,9],[26,10,27,11],[26,12,27,14],[29,11,29,14],[30,0,30,2],[30,11,30,14],[31,0,31,2],[31,11,31,14],[30,8,30,10],[31,8,31,10],[29,0,29,2],[32,0,32,2],[32,11,32,14],[33,0,33,2],[33,11,33,14],[32,8,32,10],[33,8,33,10],[33,5,33,7],[34,0,34,2],[34,11,34,14],[35,0,35,2],[35,11,35,14],[34,5,34,7],[35,5,35,7],[34,8,34,10],[35,8,35,10],[29,5,29,7],[29,8,29,10],[30,5,30,7],[31,5,31,7],[32,5,32,7],[38,11,38,14],[38,8,38,10],[36,0,36,2],[36,11,36,14],[37,0,37,2],[37,11,37,14],[38,0,38,7],[36,5,36,7],[37,5,37,7],[36,8,36,10],[37,8,37,10],[41,13,44,13],[41,12,44,12],[41,11,44,11],[41,10,44,10],[41,9,44,9]]}
[null,null,null,null,null,null,null,null,null,null,null,null,"請求元控"]
[null,null,null,null,null,null,null,null,null,null,null,{"$f":"IF('請求書（入力用）'!L2:O2=\"\",\"\",'請求書（入力用）'!L2:O2)","v":""}]
[" 請　　　求　　　書 "]
[]
[]
["株式会社　有我工業所　御中"]
[]
["工事番号",{"$f":"IF('請求書（入力用）'!B8:C9=\"\",\"\",'請求書（入力用）'!B8:C9)","v":""},null,"工事名",null,{"$f":"IF('請求書（入力用）'!F8:M9=\"\",\"\",'請求書（入力用）'!F8:M9)","v":""}]
[]
[]
[]
[null,null,null,null,null,null,null,null,"（請求者）"]
[null,null,null,null,null,null,null,null,"住　　所",null,{"$f":"IF('請求書（入力用）'!K13:O13=\"\",\"\",'請求書（入力用）'!K13:O13)","v":""}]
[null,null,null,null,null,null,null,null,"会社名",null,{"$f":"IF('請求書（入力用）'!K14:M16=\"\",\"\",'請求書（入力用）'!K14:M16)","v":""},null,null,"㊞"]
[]
[null,null,null,null,null,null,null,null,"登録番号",null,{"$f":"IF('請求書（入力用）'!K16:M16=\"\",\"\",'請求書（入力用）'!K16:M16)","v":""}]
[]
[]
[null,null,null,null,null,null,null,"金融機関・支店名",null,null,{"$f":"IF('請求書（入力用）'!K19:O19=\"\",\"入力してください\",'請求書（入力用）'!K19:O19)","v":"入力してください"}]
["今回請求額（税抜）①\n⑥-⑤",null,"消　費　税②\n①×0.1",null,"請求金額合計\n①+②",null,null,"預 　金 　種 　別",null,null,{"$f":"IF('請求書（入力用）'!K20=\"\",\"入力してください\",'請求書（入力用）'!K20)","v":"入力してください"},"口座番号",{"$f":"IF('請求書（入力用）'!M20:O20=\"\",\"入力してください\",'請求書（入力用）'!M20:O20)","v":"入力してください"}]
[null,null,null,null,null,null,null,"フ   リ   ガ   ナ",null,null,{"$f":"IF('請求書（入力用）'!K21:O21=\"\",\"入力してください\",'請求書（入力用）'!K21:O21)","v":"入力してください"}]
[{"$f":"IF('請求書（入力用）'!A22:B23=\"\",\"\",'請求書（入力用）'!A22:B23)","v":""},null,{"$f":"IF('請求書（入力用）'!C22:D23=\"\",\"\",'請求書（入力用）'!C22:D23)","v":""},null,{"$f":"IF('請求書（入力用）'!E22:F23=\"\",\"\",'請求書（入力用）'!E22:F23)","v":""},null,null,"口   座   名   義",null,null,{"$f":"IF('請求書（入力用）'!K22:O23=\"\",\"入力してください\",'請求書（入力用）'!K22:O23)","v":"入力してください"}]
[]
[]
[]
["契約額（税抜き）③",null,"前月迄出来高④",null,"立替・相殺等⑤",null,"今月分出来高⑥",null,null,null,"出来高合計④+⑥",null,"契約残額③-④-⑥"]
[{"$f":"IF('請求書（入力用）'!A27:B28=\"\",\"\",'請求書（入力用）'!A27:B28)","v":""},null,{"$f":"IF('請求書（入力用）'!C27:D28=\"\",\"\",'請求書（入力用）'!C27:D28)","v":0},null,{"$f":"IF('請求書（入力用）'!E27:F28=\"\",\"\",'請求書（入力用）'!E27:F28)","v":""},null,{"$f":"IF('請求書（入力用）'!G27:J28=\"\",\"\",'請求書（入力用）'!G27:J28)","v":""},null,null,null,{"$f":"IF('請求書（入力用）'!K27:L28=\"\",\"\",'請求書（入力用）'!K27:L28)","v":{"$error":"#VALUE!"}},null,{"$f":"IF('請求書（入力用）'!M27:O28=\"\",\"\",'請求書（入力用）'!M27:O28)","v":"契約額を入力してください"}]
[]
[]
["工　　種　　名",null,null,"数量","単位","契約金額",null,null,"先月迄出来高",null,null,"今月出来高"]
[{"$f":"IF('請求書（入力用）'!A31:C31=\"\",\"\",'請求書（入力用）'!A31:C31)","v":""},null,null,{"$f":"IF('請求書（入力用）'!D31=\"\",\"\",'請求書（入力用）'!D31)","v":""},{"$f":"IF('請求書（入力用）'!E31=\"\",\"\",'請求書（入力用）'!E31)","v":""},{"$f":"IF('請求書（入力用）'!F31:H31=\"\",\"\",'請求書（入力用）'!F31:H31)","v":""},null,null,{"$f":"IF('請求書（入力用）'!I31:K31=\"\",\"\",'請求書（入力用）'!I31:K31)","v":""},null,null,{"$f":"IF('請求書（入力用）'!L31:O31=\"\",\"\",'請求書（入力用）'!L31:O31)","v":""}]
[{"$f":"IF('請求書（入力用）'!A32:C32=\"\",\"\",'請求書（入力用）'!A32:C32)","v":""},null,null,{"$f":"IF('請求書（入力用）'!D32=\"\",\"\",'請求書（入力用）'!D32)","v":""},{"$f":"IF('請求書（入力用）'!E32=\"\",\"\",'請求書（入力用）'!E32)","v":""},{"$f":"IF('請求書（入力用）'!F32:H32=\"\",\"\",'請求書（入力用）'!F32:H32)","v":""},null,null,{"$f":"IF('請求書（入力用）'!I32:K32=\"\",\"\",'請求書（入力用）'!I32:K32)","v":""},null,null,{"$f":"IF('請求書（入力用）'!L32:O32=\"\",\"\",'請求書（入力用）'!L32:O32)","v":""}]
[{"$f":"IF('請求書（入力用）'!A33:C33=\"\",\"\",'請求書（入力用）'!A33:C33)","v":""},null,null,{"$f":"IF('請求書（入力用）'!D33=\"\",\"\",'請求書（入力用）'!D33)","v":""},{"$f":"IF('請求書（入力用）'!E33=\"\",\"\",'請求書（入力用）'!E33)","v":""},{"$f":"IF('請求書（入力用）'!F33:H33=\"\",\"\",'請求書（入力用）'!F33:H33)","v":""},null,null,{"$f":"IF('請求書（入力用）'!I33:K33=\"\",\"\",'請求書（入力用）'!I33:K33)","v":""},null,null,{"$f":"IF('請求書（入力用）'!L33:O33=\"\",\"\",'請求書（入力用）'!L33:O33)","v":""}]
[{"$f":"IF('請求書（入力用）'!A34:C34=\"\",\"\",'請求書（入力用）'!A34:C34)","v":""},null,null,{"$f":"IF('請求書（入力用）'!D34=\"\",\"\",'請求書（入力用）'!D34)","v":""},{"$f":"IF('請求書（入力用）'!E34=\"\",\"\",'請求書（入力用）'!E34)","v":""},{"$f":"IF('請求書（入力用）'!F34:H34=\"\",\"\",'請求書（入力用）'!F34:H34)","v":""},null,null,{"$f":"IF('請求書（入力用）'!I34:K34=\"\",\"\",'請求書（入力用）'!I34:K34)","v":""},null,null,{"$f":"IF('請求書（入力用）'!L34:O34=\"\",\"\",'請求書（入力用）'!L34:O34)","v":""}]
[{"$f":"IF('請求書（入力用）'!A35:C35=\"\",\"\",'請求書（入力用）'!A35:C35)","v":""},null,null,{"$f":"IF('請求書（入力用）'!D35=\"\",\"\",'請求書（入力用）'!D35)","v":""},{"$f":"IF('請求書（入力用）'!E35=\"\",\"\",'請求書（入力用）'!E35)","v":""},{"$f":"IF('請求書（入力用）'!F35:H35=\"\",\"\",'請求書（入力用）'!F35:H35)","v":""},null,null,{"$f":"IF('請求書（入力用）'!I35:K35=\"\",\"\",'請求書（入力用）'!I35:K35)","v":""},null,null,{"$f":"IF('請求書（入力用）'!L35:O35=\"\",\"\",'請求書（入力用）'!L35:O35)","v":""}]
[{"$f":"IF('請求書（入力用）'!A36:C36=\"\",\"\",'請求書（入力用）'!A36:C36)","v":""},null,null,{"$f":"IF('請求書（入力用）'!D36=\"\",\"\",'請求書（入力用）'!D36)","v":""},{"$f":"IF('請求書（入力用）'!E36=\"\",\"\",'請求書（入力用）'!E36)","v":""},{"$f":"IF('請求書（入力用）'!F36:H36=\"\",\"\",'請求書（入力用）'!F36:H36)","v":""},null,null,{"$f":"IF('請求書（入力用）'!I36:K36=\"\",\"\",'請求書（入力用）'!I36:K36)","v":""},null,null,{"$f":"IF('請求書（入力用）'!L36:O36=\"\",\"\",'請求書（入力用）'!L36:O36)","v":""}]
[{"$f":"IF('請求書（入力用）'!A37:C37=\"\",\"\",'請求書（入力用）'!A37:C37)","v":""},null,null,{"$f":"IF('請求書（入力用）'!D37=\"\",\"\",'請求書（入力用）'!D37)","v":""},{"$f":"IF('請求書（入力用）'!E37=\"\",\"\",'請求書（入力用）'!E37)","v":""},{"$f":"IF('請求書（入力用）'!F37:H37=\"\",\"\",'請求書（入力用）'!F37:H37)","v":""},null,null,{"$f":"IF('請求書（入力用）'!I37:K37=\"\",\"\",'請求書（入力用）'!I37:K37)","v":""},null,null,{"$f":"IF('請求書（入力用）'!L37:O37=\"\",\"\",'請求書（入力用）'!L37:O37)","v":""}]
[{"$f":"IF('請求書（入力用）'!A38:C38=\"\",\"\",'請求書（入力用）'!A38:C38)","v":""},null,null,{"$f":"IF('請求書（入力用）'!D38=\"\",\"\",'請求書（入力用）'!D38)","v":""},{"$f":"IF('請求書（入力用）'!E38=\"\",\"\",'請求書（入力用）'!E38)","v":""},{"$f":"IF('請求書（入力用）'!F38:H38=\"\",\"\",'請求書（入力用）'!F38:H38)","v":""},null,null,{"$f":"IF('請求書（入力用）'!I38:K38=\"\",\"\",'請求書（入力用）'!I38:K38)","v":""},null,null,{"$f":"IF('請求書（入力用）'!L38:O38=\"\",\"\",'請求書（入力用）'!L38:O38)","v":""}]
["合　　　　　計",null,null,null,null,null,null,null,{"$f":"IF('請求書（入力用）'!I39:K39=\"\",\"\",'請求書（入力用）'!I39:K39)","v":""},null,null,{"$f":"IF('請求書（入力用）'!L39:O39=\"\",\"\",'請求書（入力用）'!L39:O39)","v":""}]